BEGIN:VCALENDAR
VERSION:2.0
PRODID:-//168.1.99.251//NONSGML kigkonsult.se iCalcreator 2.20//
CALSCALE:GREGORIAN
METHOD:PUBLISH
X-WR-CALNAME:Outram Hall
X-WR-CALDESC:
X-FROM-URL:http://outramhall.co.nz
X-WR-TIMEZONE:Pacific/Auckland
BEGIN:VTIMEZONE
TZID:Pacific/Auckland
X-LIC-LOCATION:Pacific/Auckland
BEGIN:STANDARD
DTSTART:20180401T030000
TZOFFSETFROM:+1300
TZOFFSETTO:+1200
TZNAME:NZST
END:STANDARD
BEGIN:DAYLIGHT
DTSTART:20170924T020000
TZOFFSETFROM:+1200
TZOFFSETTO:+1300
TZNAME:NZDT
END:DAYLIGHT
END:VTIMEZONE
BEGIN:VEVENT
UID:ai1ec-97@outramhall.co.nz
DTSTAMP:20180120T193225Z
CATEGORIES:
CONTACT:Abbey-Lee McMahon\; 021 111 0150\; abbeylee.mcmahon@gmail.com
DESCRIPTION:
DTSTART;TZID=Pacific/Auckland:20151130T183000
DTEND;TZID=Pacific/Auckland:20151130T193000
RRULE:FREQ=WEEKLY;UNTIL=20171030T235959Z;BYDAY=MO;WKST=MO
SEQUENCE:0
SUMMARY:Yoga Flow with Abbey-Lee
URL:http://outramhall.co.nz/event/abbey-yoga/
X-COST-TYPE:free
END:VEVENT
END:VCALENDAR
