BEGIN:VCALENDAR
VERSION:2.0
PRODID:-//168.1.99.251//NONSGML kigkonsult.se iCalcreator 2.20//
CALSCALE:GREGORIAN
METHOD:PUBLISH
X-WR-CALNAME:Outram Hall
X-WR-CALDESC:
X-FROM-URL:http://outramhall.co.nz
X-WR-TIMEZONE:Pacific/Auckland
BEGIN:VTIMEZONE
TZID:Pacific/Auckland
X-LIC-LOCATION:Pacific/Auckland
BEGIN:STANDARD
DTSTART:20180401T030000
TZOFFSETFROM:+1300
TZOFFSETTO:+1200
TZNAME:NZST
END:STANDARD
BEGIN:DAYLIGHT
DTSTART:20170924T020000
TZOFFSETFROM:+1200
TZOFFSETTO:+1300
TZNAME:NZDT
END:DAYLIGHT
END:VTIMEZONE
BEGIN:VEVENT
UID:ai1ec-55@outramhall.co.nz
DTSTAMP:20180120T193240Z
CATEGORIES;LANGUAGE=en-NZ:Events
CONTACT:Karolina Markovska\; 09 476 8424 or 027 3664999\; karolinaspaseska1
 1@gmail.com
DESCRIPTION:<p>Tickets: <a class='ai1ec-ticket-url-exported' href='http://e
 lliepilates.co.nz/classes-times/'>http://elliepilates.co.nz/classes-times/
 </a>.</p>
DTSTART;TZID=Pacific/Auckland:20151130T090000
DTEND;TZID=Pacific/Auckland:20151130T103000
GEO:-36.73226;+174.752444
LOCATION:Outram Hall @ 478 Beach Rd\, Murrays Bay\, Auckland 0630\, New Zea
 land
RRULE:FREQ=WEEKLY;BYDAY=MO;WKST=MO
SEQUENCE:0
SUMMARY:Yoga with Karolina
URL:http://outramhall.co.nz/event/karolina-yoga-2/
X-COST-TYPE:external
X-TICKETS-URL:http://elliepilates.co.nz/classes-times/
END:VEVENT
END:VCALENDAR
