BEGIN:VCALENDAR
VERSION:2.0
PRODID:-//168.1.99.251//NONSGML kigkonsult.se iCalcreator 2.20//
CALSCALE:GREGORIAN
METHOD:PUBLISH
X-WR-CALNAME:Outram Hall
X-WR-CALDESC:
X-FROM-URL:http://outramhall.co.nz
X-WR-TIMEZONE:Pacific/Auckland
BEGIN:VTIMEZONE
TZID:Pacific/Auckland
X-LIC-LOCATION:Pacific/Auckland
BEGIN:STANDARD
DTSTART:20180401T030000
TZOFFSETFROM:+1300
TZOFFSETTO:+1200
TZNAME:NZST
END:STANDARD
BEGIN:DAYLIGHT
DTSTART:20170924T020000
TZOFFSETFROM:+1200
TZOFFSETTO:+1300
TZNAME:NZDT
END:DAYLIGHT
END:VTIMEZONE
BEGIN:VEVENT
UID:ai1ec-52@outramhall.co.nz
DTSTAMP:20180120T193316Z
CATEGORIES;LANGUAGE=en-NZ:Events
CONTACT:Taku Poll\; 021 298 3414\; taku@kidsmartialarts.co.nz\; http://www.
 kidsmartialarts.co.nz/classes.html
DESCRIPTION:<p>Tickets: <a class='ai1ec-ticket-url-exported' href='http://w
 ww.kidsmartialarts.co.nz/classes.html'>http://www.kidsmartialarts.co.nz/cl
 asses.html</a>.</p>
DTSTART;TZID=Pacific/Auckland:20151130T153000
DTEND;TZID=Pacific/Auckland:20151130T181500
GEO:-36.73226;+174.752444
LOCATION:Outram Hall @ 478 Beach Rd\, Murrays Bay\, Auckland 0630\, New Zea
 land
RRULE:FREQ=WEEKLY;BYDAY=MO;WKST=MO
SEQUENCE:0
SUMMARY:KMA Martial Arts
URL:http://outramhall.co.nz/event/kids-martial-arts-3/
X-COST-TYPE:external
X-TICKETS-URL:http://www.kidsmartialarts.co.nz/classes.html
END:VEVENT
END:VCALENDAR
