BEGIN:VCALENDAR
VERSION:2.0
PRODID:-//168.1.99.251//NONSGML kigkonsult.se iCalcreator 2.20//
CALSCALE:GREGORIAN
METHOD:PUBLISH
X-WR-CALNAME:Outram Hall
X-WR-CALDESC:
X-FROM-URL:http://outramhall.co.nz
X-WR-TIMEZONE:Pacific/Auckland
BEGIN:VTIMEZONE
TZID:Pacific/Auckland
X-LIC-LOCATION:Pacific/Auckland
BEGIN:STANDARD
DTSTART:20180401T030000
TZOFFSETFROM:+1300
TZOFFSETTO:+1200
TZNAME:NZST
END:STANDARD
BEGIN:DAYLIGHT
DTSTART:20170924T020000
TZOFFSETFROM:+1200
TZOFFSETTO:+1300
TZNAME:NZDT
END:DAYLIGHT
END:VTIMEZONE
BEGIN:VEVENT
UID:ai1ec-40@outramhall.co.nz
DTSTAMP:20180120T193416Z
CATEGORIES;LANGUAGE=en-NZ:Events
CONTACT:Brenda Swainbank\; 09 478 8537\, 022 071 9451\; jessbren7@gmail.com
 \; http://www.fitnessleague.org.nz/exercise_class/tuesday-outram-hall-beac
 h-road-murrays-bay-at-545pm/
DESCRIPTION:Tickets: http://www.fitnessleague.org.nz/exercise_class/thursda
 y-outram-hall-murrays-bay-at-930am/.
DTSTART;TZID=Pacific/Auckland:20151201T174500
DTEND;TZID=Pacific/Auckland:20151201T184500
GEO:-36.73226;+174.752444
LOCATION:Outram Hall @ 478 Beach Rd\, Murrays Bay\, Auckland 0630\, New Zea
 land
RRULE:FREQ=WEEKLY;BYDAY=TU;WKST=MO
SEQUENCE:0
SUMMARY:Fitness League New Zealand
URL:http://outramhall.co.nz/event/fitness-league-new-zealand/
X-COST-TYPE:external
X-ALT-DESC;FMTTYPE=text/html:<!DOCTYPE HTML PUBLIC '-//W3C//DTD HTML 3.2//E
 N'>\\n<HTML>\\n<HEAD>\\n<TITLE></TITLE>\\n</HEAD>\\n<BODY><p>Tickets: <a c
 lass='ai1ec-ticket-url-exported' href='http://www.fitnessleague.org.nz/exe
 rcise_class/thursday-outram-hall-murrays-bay-at-930am/'>http://www.fitness
 league.org.nz/exercise_class/thursday-outram-hall-murrays-bay-at-930am/</a
 >.</p></BODY></HTML>
X-TICKETS-URL:http://www.fitnessleague.org.nz/exercise_class/thursday-outra
 m-hall-murrays-bay-at-930am/
END:VEVENT
END:VCALENDAR
