BEGIN:VCALENDAR
VERSION:2.0
PRODID:-//168.1.99.251//NONSGML kigkonsult.se iCalcreator 2.20//
CALSCALE:GREGORIAN
METHOD:PUBLISH
X-WR-CALNAME:Outram Hall
X-WR-CALDESC:
X-FROM-URL:http://outramhall.co.nz
X-WR-TIMEZONE:Pacific/Auckland
BEGIN:VTIMEZONE
TZID:Pacific/Auckland
X-LIC-LOCATION:Pacific/Auckland
BEGIN:STANDARD
DTSTART:20180401T030000
TZOFFSETFROM:+1300
TZOFFSETTO:+1200
TZNAME:NZST
END:STANDARD
BEGIN:DAYLIGHT
DTSTART:20170924T020000
TZOFFSETFROM:+1200
TZOFFSETTO:+1300
TZNAME:NZDT
END:DAYLIGHT
END:VTIMEZONE
BEGIN:VEVENT
UID:ai1ec-201@outramhall.co.nz
DTSTAMP:20180124T215701Z
CATEGORIES:
CONTACT:Avon Hansen- Beadle\; 09 476 6361\; avonhb@xtra.co.nz
DESCRIPTION:
DTSTART;TZID=Pacific/Auckland:20170128T140000
DTEND;TZID=Pacific/Auckland:20170128T170000
SEQUENCE:0
SUMMARY:UKULELE CONCERT
URL:http://outramhall.co.nz/event/ukulele-concert/
X-COST-TYPE:free
END:VEVENT
END:VCALENDAR
