BEGIN:VCALENDAR
VERSION:2.0
PRODID:-//168.1.99.251//NONSGML kigkonsult.se iCalcreator 2.20//
CALSCALE:GREGORIAN
METHOD:PUBLISH
X-WR-CALNAME:Outram Hall
X-WR-CALDESC:
X-FROM-URL:http://outramhall.co.nz
X-WR-TIMEZONE:Pacific/Auckland
BEGIN:VTIMEZONE
TZID:Pacific/Auckland
X-LIC-LOCATION:Pacific/Auckland
BEGIN:STANDARD
DTSTART:20180401T030000
TZOFFSETFROM:+1300
TZOFFSETTO:+1200
TZNAME:NZST
END:STANDARD
BEGIN:DAYLIGHT
DTSTART:20170924T020000
TZOFFSETFROM:+1200
TZOFFSETTO:+1300
TZNAME:NZDT
END:DAYLIGHT
END:VTIMEZONE
BEGIN:VEVENT
UID:ai1ec-198@outramhall.co.nz
DTSTAMP:20180120T193428Z
CATEGORIES:
CONTACT:Ellie Mitchell\; 021 333 530\; elliemitch@hotmail.com
DESCRIPTION:
DTSTART;TZID=Pacific/Auckland:20170124T190000
DTEND;TZID=Pacific/Auckland:20170124T200000
RRULE:FREQ=WEEKLY
SEQUENCE:0
SUMMARY:PILATES
URL:http://outramhall.co.nz/event/pilates/
X-COST-TYPE:free
END:VEVENT
END:VCALENDAR
