BEGIN:VCALENDAR
VERSION:2.0
PRODID:-//168.1.99.251//NONSGML kigkonsult.se iCalcreator 2.20//
CALSCALE:GREGORIAN
METHOD:PUBLISH
X-WR-CALNAME:Outram Hall
X-WR-CALDESC:
X-FROM-URL:http://outramhall.co.nz
X-WR-TIMEZONE:Pacific/Auckland
BEGIN:VTIMEZONE
TZID:Pacific/Auckland
X-LIC-LOCATION:Pacific/Auckland
BEGIN:STANDARD
DTSTART:20180401T030000
TZOFFSETFROM:+1300
TZOFFSETTO:+1200
TZNAME:NZST
END:STANDARD
BEGIN:DAYLIGHT
DTSTART:20170924T020000
TZOFFSETFROM:+1200
TZOFFSETTO:+1300
TZNAME:NZDT
END:DAYLIGHT
END:VTIMEZONE
BEGIN:VEVENT
UID:ai1ec-151@outramhall.co.nz
DTSTAMP:20180120T193327Z
CATEGORIES:
CONTACT:Taku Poll\; 021 298 3414\; taku@kidsmartialarts.co.nz\; http://www.
 kidsmartialarts.co.nz/classes.html
DESCRIPTION:
DTSTART;TZID=Pacific/Auckland:20160726T153000
DTEND;TZID=Pacific/Auckland:20160726T171500
RRULE:FREQ=WEEKLY;BYDAY=TU;WKST=MO
SEQUENCE:0
SUMMARY:KMA Martial Arts
URL:http://outramhall.co.nz/event/kma-martial-arts/
X-COST-TYPE:free
END:VEVENT
END:VCALENDAR
