BEGIN:VCALENDAR
VERSION:2.0
PRODID:-//168.1.99.251//NONSGML kigkonsult.se iCalcreator 2.20//
CALSCALE:GREGORIAN
METHOD:PUBLISH
X-WR-CALNAME:Outram Hall
X-WR-CALDESC:
X-FROM-URL:http://outramhall.co.nz
X-WR-TIMEZONE:Pacific/Auckland
BEGIN:VTIMEZONE
TZID:Pacific/Auckland
X-LIC-LOCATION:Pacific/Auckland
BEGIN:STANDARD
DTSTART:20180401T030000
TZOFFSETFROM:+1300
TZOFFSETTO:+1200
TZNAME:NZST
END:STANDARD
BEGIN:DAYLIGHT
DTSTART:20170924T020000
TZOFFSETFROM:+1200
TZOFFSETTO:+1300
TZNAME:NZDT
END:DAYLIGHT
END:VTIMEZONE
BEGIN:VEVENT
UID:ai1ec-148@outramhall.co.nz
DTSTAMP:20180120T193343Z
CATEGORIES:
CONTACT:Vanessa Kay\; 021 252 8093\; vkay14@gmail.com
DESCRIPTION:
DTSTART;TZID=Pacific/Auckland:20160729T153000
DTEND;TZID=Pacific/Auckland:20160729T163000
EXDATE;TZID=Pacific/Auckland:20170113T153000
EXDATE;TZID=Pacific/Auckland:20170120T153000
EXDATE;TZID=Pacific/Auckland:20170127T153000
EXDATE;TZID=Pacific/Auckland:20170203T153000
RRULE:FREQ=WEEKLY;BYDAY=FR;WKST=MO
SEQUENCE:0
SUMMARY:Music lesson / children’s choir
URL:http://outramhall.co.nz/event/music-lesson-childrens-choir/
X-COST-TYPE:free
END:VEVENT
END:VCALENDAR
