BEGIN:VCALENDAR
VERSION:2.0
PRODID:-//168.1.99.251//NONSGML kigkonsult.se iCalcreator 2.20//
CALSCALE:GREGORIAN
METHOD:PUBLISH
X-FROM-URL:http://outramhall.co.nz
X-WR-TIMEZONE:Pacific/Auckland
BEGIN:VTIMEZONE
TZID:Pacific/Auckland
X-LIC-LOCATION:Pacific/Auckland
BEGIN:STANDARD
DTSTART:20180401T030000
TZOFFSETFROM:+1300
TZOFFSETTO:+1200
TZNAME:NZST
END:STANDARD
BEGIN:DAYLIGHT
DTSTART:20170924T020000
TZOFFSETFROM:+1200
TZOFFSETTO:+1300
TZNAME:NZDT
END:DAYLIGHT
END:VTIMEZONE
BEGIN:VEVENT
UID:ai1ec-55@outramhall.co.nz
DTSTAMP:20180120T192731Z
CATEGORIES;LANGUAGE=en-NZ:Events
CONTACT:Karolina Markovska\; 09 476 8424 or 027 3664999\; karolinaspaseska1
 1@gmail.com
DESCRIPTION:<p>Tickets: <a class='ai1ec-ticket-url-exported' href='http://e
 lliepilates.co.nz/classes-times/'>http://elliepilates.co.nz/classes-times/
 </a>.</p>
DTSTART;TZID=Pacific/Auckland:20180122T090000
DTEND;TZID=Pacific/Auckland:20180122T103000
GEO:-36.73226;+174.752444
LOCATION:Outram Hall @ 478 Beach Rd\, Murrays Bay\, Auckland 0630\, New Zea
 land
RRULE:FREQ=WEEKLY;BYDAY=MO;WKST=MO
SEQUENCE:0
SUMMARY:Yoga with Karolina
URL:http://outramhall.co.nz/event/karolina-yoga-2/
X-COST-TYPE:external
X-TICKETS-URL:http://elliepilates.co.nz/classes-times/
END:VEVENT
BEGIN:VEVENT
UID:ai1ec-52@outramhall.co.nz
DTSTAMP:20180120T192731Z
CATEGORIES;LANGUAGE=en-NZ:Events
CONTACT:Taku Poll\; 021 298 3414\; taku@kidsmartialarts.co.nz\; http://www.
 kidsmartialarts.co.nz/classes.html
DESCRIPTION:<p>Tickets: <a class='ai1ec-ticket-url-exported' href='http://w
 ww.kidsmartialarts.co.nz/classes.html'>http://www.kidsmartialarts.co.nz/cl
 asses.html</a>.</p>
DTSTART;TZID=Pacific/Auckland:20180122T153000
DTEND;TZID=Pacific/Auckland:20180122T181500
GEO:-36.73226;+174.752444
LOCATION:Outram Hall @ 478 Beach Rd\, Murrays Bay\, Auckland 0630\, New Zea
 land
RRULE:FREQ=WEEKLY;BYDAY=MO;WKST=MO
SEQUENCE:0
SUMMARY:KMA Martial Arts
URL:http://outramhall.co.nz/event/kids-martial-arts-3/
X-COST-TYPE:external
X-TICKETS-URL:http://www.kidsmartialarts.co.nz/classes.html
END:VEVENT
BEGIN:VEVENT
UID:ai1ec-151@outramhall.co.nz
DTSTAMP:20180120T192731Z
CATEGORIES:
CONTACT:Taku Poll\; 021 298 3414\; taku@kidsmartialarts.co.nz\; http://www.
 kidsmartialarts.co.nz/classes.html
DESCRIPTION:
DTSTART;TZID=Pacific/Auckland:20180123T153000
DTEND;TZID=Pacific/Auckland:20180123T171500
RRULE:FREQ=WEEKLY;BYDAY=TU;WKST=MO
SEQUENCE:0
SUMMARY:KMA Martial Arts
URL:http://outramhall.co.nz/event/kma-martial-arts/
X-COST-TYPE:free
END:VEVENT
BEGIN:VEVENT
UID:ai1ec-40@outramhall.co.nz
DTSTAMP:20180120T192731Z
CATEGORIES;LANGUAGE=en-NZ:Events
CONTACT:Brenda Swainbank\; 09 478 8537\, 022 071 9451\; jessbren7@gmail.com
 \; http://www.fitnessleague.org.nz/exercise_class/tuesday-outram-hall-beac
 h-road-murrays-bay-at-545pm/
DESCRIPTION:<p>Tickets: <a class='ai1ec-ticket-url-exported' href='http://w
 ww.fitnessleague.org.nz/exercise_class/thursday-outram-hall-murrays-bay-at
 -930am/'>http://www.fitnessleague.org.nz/exercise_class/thursday-outram-ha
 ll-murrays-bay-at-930am/</a>.</p>
DTSTART;TZID=Pacific/Auckland:20180123T174500
DTEND;TZID=Pacific/Auckland:20180123T184500
GEO:-36.73226;+174.752444
LOCATION:Outram Hall @ 478 Beach Rd\, Murrays Bay\, Auckland 0630\, New Zea
 land
RRULE:FREQ=WEEKLY;BYDAY=TU;WKST=MO
SEQUENCE:0
SUMMARY:Fitness League New Zealand
URL:http://outramhall.co.nz/event/fitness-league-new-zealand/
X-COST-TYPE:external
X-TICKETS-URL:http://www.fitnessleague.org.nz/exercise_class/thursday-outra
 m-hall-murrays-bay-at-930am/
END:VEVENT
BEGIN:VEVENT
UID:ai1ec-198@outramhall.co.nz
DTSTAMP:20180120T192731Z
CATEGORIES:
CONTACT:Ellie Mitchell\; 021 333 530\; elliemitch@hotmail.com
DESCRIPTION:
DTSTART;TZID=Pacific/Auckland:20180123T190000
DTEND;TZID=Pacific/Auckland:20180123T200000
RRULE:FREQ=WEEKLY
SEQUENCE:0
SUMMARY:PILATES
URL:http://outramhall.co.nz/event/pilates/
X-COST-TYPE:free
END:VEVENT
BEGIN:VEVENT
UID:ai1ec-155@outramhall.co.nz
DTSTAMP:20180120T192731Z
CATEGORIES:
CONTACT:Taku Poll\; 021 298 3414\; taku@kidsmartialarts.co.nz\; http://www.
 kidsmartialarts.co.nz/classes.html
DESCRIPTION:
DTSTART;TZID=Pacific/Auckland:20180124T160000
DTEND;TZID=Pacific/Auckland:20180124T184500
RRULE:FREQ=WEEKLY;BYDAY=WE;WKST=MO
SEQUENCE:0
SUMMARY:KMA Martial Arts
URL:http://outramhall.co.nz/event/kma-martial-arts-2/
X-COST-TYPE:free
END:VEVENT
BEGIN:VEVENT
UID:ai1ec-92@outramhall.co.nz
DTSTAMP:20180120T192731Z
CATEGORIES;LANGUAGE=en-NZ:Events
CONTACT:Karolina Markovska\; 09 476 8424 or 027 3664999\; karolinaspaseska1
 1@gmail.com
DESCRIPTION:<p>Tickets: <a class='ai1ec-ticket-url-exported' href='http://e
 lliepilates.co.nz/classes-times/'>http://elliepilates.co.nz/classes-times/
 </a>.</p>
DTSTART;TZID=Pacific/Auckland:20180124T190000
DTEND;TZID=Pacific/Auckland:20180124T203000
GEO:-36.73226;+174.752444
LOCATION:Outram Hall @ 478 Beach Rd\, Murrays Bay\, Auckland 0630\, New Zea
 land
RRULE:FREQ=WEEKLY;BYDAY=WE;WKST=MO
SEQUENCE:0
SUMMARY:Yoga with Karolina
URL:http://outramhall.co.nz/event/yoga-karolina-2/
X-COST-TYPE:external
X-TICKETS-URL:http://elliepilates.co.nz/classes-times/
END:VEVENT
BEGIN:VEVENT
UID:ai1ec-91@outramhall.co.nz
DTSTAMP:20180120T192731Z
CATEGORIES;LANGUAGE=en-NZ:Events
CONTACT:Sonia Sandford\; 021 158 5867\; soz@xtra.co.nz\; http://www.fitness
 league.org.nz/exercise_class/thursday-outram-hall-murrays-bay-at-930am/
DESCRIPTION:<p>Tickets: <a class='ai1ec-ticket-url-exported' href='http://w
 ww.fitnessleague.org.nz/exercise_class/thursday-outram-hall-murrays-bay-at
 -930am/'>http://www.fitnessleague.org.nz/exercise_class/thursday-outram-ha
 ll-murrays-bay-at-930am/</a>.</p>
DTSTART;TZID=Pacific/Auckland:20180125T093000
DTEND;TZID=Pacific/Auckland:20180125T103000
GEO:-36.73226;+174.752444
LOCATION:Outram Hall @ 478 Beach Rd\, Murrays Bay\, Auckland 0630\, New Zea
 land
RRULE:FREQ=WEEKLY;BYDAY=TH;WKST=MO
SEQUENCE:0
SUMMARY:Fitness League
URL:http://outramhall.co.nz/event/fitness-league-new-zealand-2/
X-COST-TYPE:external
X-TICKETS-URL:http://www.fitnessleague.org.nz/exercise_class/thursday-outra
 m-hall-murrays-bay-at-930am/
END:VEVENT
BEGIN:VEVENT
UID:ai1ec-156@outramhall.co.nz
DTSTAMP:20180120T192731Z
CATEGORIES:
CONTACT:Taku Poll\; 021 298 3414\; taku@kidsmartialarts.co.nz\; http://www.
 kidsmartialarts.co.nz/classes.html
DESCRIPTION:
DTSTART;TZID=Pacific/Auckland:20180125T154500
DTEND;TZID=Pacific/Auckland:20180125T183000
RRULE:FREQ=WEEKLY;BYDAY=TH;WKST=MO
SEQUENCE:0
SUMMARY:KMA Martial Arts
URL:http://outramhall.co.nz/event/kma-martial-arts-3/
X-COST-TYPE:free
END:VEVENT
BEGIN:VEVENT
UID:ai1ec-295@outramhall.co.nz
DTSTAMP:20180120T192731Z
CATEGORIES:
CONTACT:Claire Hay\; 021 511 455\; claire.hay@gmail.com
DESCRIPTION:
DTSTART;TZID=Pacific/Auckland:20180125T190000
DTEND;TZID=Pacific/Auckland:20180125T203000
RRULE:FREQ=WEEKLY
SEQUENCE:0
SUMMARY:Yoga
URL:http://outramhall.co.nz/event/yoga/
X-COST-TYPE:free
END:VEVENT
BEGIN:VEVENT
UID:ai1ec-199@outramhall.co.nz
DTSTAMP:20180120T192731Z
CATEGORIES:
CONTACT:Kim Wyatt\; 021 592 833\; kim@3ecoaching.co.nz
DESCRIPTION:
DTSTART;TZID=Pacific/Auckland:20180126T093000
DTEND;TZID=Pacific/Auckland:20180126T103000
RRULE:FREQ=WEEKLY
SEQUENCE:0
SUMMARY:Dance Fitness
URL:http://outramhall.co.nz/event/dance-fitness/
X-COST-TYPE:free
END:VEVENT
BEGIN:VEVENT
UID:ai1ec-148@outramhall.co.nz
DTSTAMP:20180120T192731Z
CATEGORIES:
CONTACT:Vanessa Kay\; 021 252 8093\; vkay14@gmail.com
DESCRIPTION:
DTSTART;TZID=Pacific/Auckland:20180126T153000
DTEND;TZID=Pacific/Auckland:20180126T163000
EXDATE;TZID=Pacific/Auckland:20170113T153000
EXDATE;TZID=Pacific/Auckland:20170120T153000
EXDATE;TZID=Pacific/Auckland:20170127T153000
EXDATE;TZID=Pacific/Auckland:20170203T153000
RRULE:FREQ=WEEKLY;BYDAY=FR;WKST=MO
SEQUENCE:0
SUMMARY:Music lesson / children’s choir
URL:http://outramhall.co.nz/event/music-lesson-childrens-choir/
X-COST-TYPE:free
END:VEVENT
BEGIN:VEVENT
UID:ai1ec-94@outramhall.co.nz
DTSTAMP:20180120T192731Z
CATEGORIES:
CONTACT:Ken Simpson Secretary\; 09 415 1205 or 021 158 5867\; lksimpson@xtr
 a.co.nz
DESCRIPTION:
DTSTART;TZID=Pacific/Auckland:20180202T093000
DTEND;TZID=Pacific/Auckland:20180202T123000
RRULE:FREQ=MONTHLY;BYDAY=1FR
SEQUENCE:0
SUMMARY:Probus
URL:http://outramhall.co.nz/event/ken-probus/
X-COST-TYPE:free
END:VEVENT
BEGIN:VEVENT
UID:ai1ec-240@outramhall.co.nz
DTSTAMP:20180120T192731Z
CATEGORIES:
CONTACT:
DESCRIPTION:
DTSTART;TZID=Pacific/Auckland:20180202T170000
DTEND;TZID=Pacific/Auckland:20180204T120000
SEQUENCE:0
SUMMARY:PRIVATE FUNCTION
URL:http://outramhall.co.nz/event/private-function-31/
X-COST-TYPE:free
END:VEVENT
BEGIN:VEVENT
UID:ai1ec-53@outramhall.co.nz
DTSTAMP:20180120T192731Z
CATEGORIES;LANGUAGE=en-NZ:Events
CONTACT:Ann McLean\; 09 480 6078 or 021 1068720\; annmclean@xtra.co.nz
DESCRIPTION:<p>Tickets: <a class='ai1ec-ticket-url-exported' href='http://w
 ww.kidsmartialarts.co.nz/classes.html'>http://www.kidsmartialarts.co.nz/cl
 asses.html</a>.</p>
DTSTART;TZID=Pacific/Auckland:20180207T090000
DTEND;TZID=Pacific/Auckland:20180207T143000
GEO:-36.73226;+174.752444
LOCATION:Outram Hall @ 478 Beach Rd\, Murrays Bay\, Auckland 0630\, New Zea
 land
RRULE:FREQ=MONTHLY;BYDAY=1WE
SEQUENCE:0
SUMMARY:Takapuna Floral Art Group
URL:http://outramhall.co.nz/event/ann-floral-4/
X-COST-TYPE:external
X-TICKETS-URL:http://www.kidsmartialarts.co.nz/classes.html
END:VEVENT
BEGIN:VEVENT
UID:ai1ec-93@outramhall.co.nz
DTSTAMP:20180120T192731Z
CATEGORIES;LANGUAGE=en-NZ:Events
CONTACT:Fay Macrae\; 09 418 3645
DESCRIPTION:<p>Tickets: <a class='ai1ec-ticket-url-exported' href='http://w
 ww.kidsmartialarts.co.nz/classes.html'>http://www.kidsmartialarts.co.nz/cl
 asses.html</a>.</p>
DTSTART;TZID=Pacific/Auckland:20180214T093000
DTEND;TZID=Pacific/Auckland:20180214T140000
GEO:-36.73226;+174.752444
LOCATION:Outram Hall @ 478 Beach Rd\, Murrays Bay\, Auckland 0630\, New Zea
 land
RRULE:FREQ=MONTHLY;BYDAY=2WE
SEQUENCE:0
SUMMARY:Hauraki Floral Art Group
URL:http://outramhall.co.nz/event/fay-floral-2/
X-COST-TYPE:external
X-TICKETS-URL:http://www.kidsmartialarts.co.nz/classes.html
END:VEVENT
END:VCALENDAR
